BEGIN:VCALENDAR
VERSION:2.0
PRODID:-//ChamberMaster//Event Calendar 2.0//EN
METHOD:PUBLISH
X-PUBLISHED-TTL:P3D
REFRESH-INTERVAL:P3D
CALSCALE:GREGORIAN
BEGIN:VEVENT
DTSTART:20260505T170000Z
DTEND:20260505T190000Z
X-MICROSOFT-CDO-ALLDAYEVENT:FALSE
SUMMARY:Gulf Coast Blood Ribbon Cutting
DESCRIPTION:We are opening a new facility in the memorial area of Houston and would love your assistance in letting our community know but also for our ribbon cutting ceremony. \n\n\n\nWe will have our President + CEO Nikhil Nayak there\, as well as our Chief Growth Officer Theresa Pina from executive leadership team. \n\n\n\nRefreshments will be provided\, along with a quick building tour at the end. Nikhil will probably be doing the cut.
X-ALT-DESC;FMTTYPE=text/html:We are opening a new facility in the memorial area of Houston and would love your assistance in letting our community know but also for our ribbon cutting ceremony.&nbsp\;<br />\n<br />\nWe will have our President + CEO Nikhil Nayak there\, as well as our Chief Growth Officer Theresa Pina from executive leadership team.&nbsp\;<br />\n<br />\nRefreshments will be provided\, along with a quick building tour at the end. Nikhil will probably be doing the cut.
LOCATION:1449 Wirt Rd Houston\, TX\, 77055
UID:e.357.24029
SEQUENCE:3
DTSTAMP:20260423T220712Z
URL:https://business.hwcoc.org/events/details/gulf-coast-blood-ribbon-cutting-24029
END:VEVENT

END:VCALENDAR
